BEGIN:VCALENDAR
VERSION:2.0
PRODID:-//Epsilon Sigma Alpha: Indiana - ECPv6.15.20//NONSGML v1.0//EN
CALSCALE:GREGORIAN
METHOD:PUBLISH
X-WR-CALNAME:Epsilon Sigma Alpha: Indiana
X-ORIGINAL-URL:https://www.indianaesa.org
X-WR-CALDESC:Events for Epsilon Sigma Alpha: Indiana
REFRESH-INTERVAL;VALUE=DURATION:PT1H
X-Robots-Tag:noindex
X-PUBLISHED-TTL:PT1H
BEGIN:VTIMEZONE
TZID:America/Indiana/Indianapolis
BEGIN:DAYLIGHT
TZOFFSETFROM:-0500
TZOFFSETTO:-0400
TZNAME:EDT
DTSTART:20250309T070000
END:DAYLIGHT
BEGIN:STANDARD
TZOFFSETFROM:-0400
TZOFFSETTO:-0500
TZNAME:EST
DTSTART:20251102T060000
END:STANDARD
BEGIN:DAYLIGHT
TZOFFSETFROM:-0500
TZOFFSETTO:-0400
TZNAME:EDT
DTSTART:20260308T070000
END:DAYLIGHT
BEGIN:STANDARD
TZOFFSETFROM:-0400
TZOFFSETTO:-0500
TZNAME:EST
DTSTART:20261101T060000
END:STANDARD
BEGIN:DAYLIGHT
TZOFFSETFROM:-0500
TZOFFSETTO:-0400
TZNAME:EDT
DTSTART:20270314T070000
END:DAYLIGHT
BEGIN:STANDARD
TZOFFSETFROM:-0400
TZOFFSETTO:-0500
TZNAME:EST
DTSTART:20271107T060000
END:STANDARD
END:VTIMEZONE
BEGIN:VEVENT
DTSTART;TZID=America/Indiana/Indianapolis:20260314T090000
DTEND;TZID=America/Indiana/Indianapolis:20260314T150000
DTSTAMP:20260425T153642
CREATED:20251203T220735Z
LAST-MODIFIED:20251203T220735Z
UID:8459-1773478800-1773500400@www.indianaesa.org
SUMMARY:2026 Spring Conference: Cruisin' Along with ESA
DESCRIPTION:The Alpha Zeta: Fort Wayne Chapter is hosting 2026 “Cruisin’ Along with ESA” Spring Conference! It will be held on March 14\, 2026 at the Roanoke American Legion. Registration and setup will begin at 9:00 am\, with the meeting starting at 10:00 am. Registration is $25 and Ways & Means Tables are $2. Register by March 1\, 2026 to Alpha Zeta! \nDownload the fillable registration form here: Spring Conference 2026 Registration FILLABLE
URL:https://www.indianaesa.org/event/2026-spring-conference-cruisin-along-with-esa/
LOCATION:Roanoke American Legion post 160\, 1122 N Main Street\, Roanoke\, IN\, 46783\, United States
CATEGORIES:Conference
ATTACH;FMTTYPE=image/png:https://www.indianaesa.org/wp-content/uploads/2025/12/2026-Spring-Conference.png
END:VEVENT
END:VCALENDAR